BEGIN:VCALENDAR
VERSION:2.0
PRODID:-//DOUG HUGHES - ECPv6.15.3//NONSGML v1.0//EN
CALSCALE:GREGORIAN
METHOD:PUBLISH
X-ORIGINAL-URL:https://doughughesauthor.com
X-WR-CALDESC:Events for DOUG HUGHES
REFRESH-INTERVAL;VALUE=DURATION:PT1H
X-Robots-Tag:noindex
X-PUBLISHED-TTL:PT1H
BEGIN:VTIMEZONE
TZID:UTC
BEGIN:STANDARD
TZOFFSETFROM:+0000
TZOFFSETTO:+0000
TZNAME:UTC
DTSTART:20210101T000000
END:STANDARD
END:VTIMEZONE
BEGIN:VEVENT
DTSTART;TZID=UTC:20210919T140000
DTEND;TZID=UTC:20210919T230000
DTSTAMP:20260423T164416
CREATED:20210919T013051Z
LAST-MODIFIED:20210919T014819Z
UID:977-1632060000-1632092400@doughughesauthor.com
SUMMARY:Test
DESCRIPTION:It’s a test event.
URL:https://doughughesauthor.com/event/test/
LOCATION:Ruskin FL 33570\, 2112 Pleasant View Ave\,\, Ruskin\, FL\, 33570\, United States
CATEGORIES:Featured,New,Test,Upcoming
ATTACH;FMTTYPE=image/jpeg:https://doughughesauthor.com/wp-content/uploads/2021/09/LittleWingGyro-2-scaled.jpg
ORGANIZER;CN="Doug Hughes":MAILTO:admin@doughughesauthor.com
END:VEVENT
END:VCALENDAR